BEGIN:VCALENDAR
VERSION:2.0
PRODID:-//Cultura Torrevieja - ECPv6.15.20//NONSGML v1.0//EN
CALSCALE:GREGORIAN
METHOD:PUBLISH
X-WR-CALNAME:Cultura Torrevieja
X-ORIGINAL-URL:https://culturatorrevieja.com/en/
X-WR-CALDESC:Events for Cultura Torrevieja
REFRESH-INTERVAL;VALUE=DURATION:PT1H
X-Robots-Tag:noindex
X-PUBLISHED-TTL:PT1H
BEGIN:VTIMEZONE
TZID:Europe/Madrid
BEGIN:DAYLIGHT
TZOFFSETFROM:+0100
TZOFFSETTO:+0200
TZNAME:CEST
DTSTART:20230326T010000
END:DAYLIGHT
BEGIN:STANDARD
TZOFFSETFROM:+0200
TZOFFSETTO:+0100
TZNAME:CET
DTSTART:20231029T010000
END:STANDARD
BEGIN:DAYLIGHT
TZOFFSETFROM:+0100
TZOFFSETTO:+0200
TZNAME:CEST
DTSTART:20240331T010000
END:DAYLIGHT
BEGIN:STANDARD
TZOFFSETFROM:+0200
TZOFFSETTO:+0100
TZNAME:CET
DTSTART:20241027T010000
END:STANDARD
BEGIN:DAYLIGHT
TZOFFSETFROM:+0100
TZOFFSETTO:+0200
TZNAME:CEST
DTSTART:20250330T010000
END:DAYLIGHT
BEGIN:STANDARD
TZOFFSETFROM:+0200
TZOFFSETTO:+0100
TZNAME:CET
DTSTART:20251026T010000
END:STANDARD
END:VTIMEZONE
BEGIN:VEVENT
DTSTART;TZID=Europe/Madrid:20241025T193000
DTEND;TZID=Europe/Madrid:20241025T193000
DTSTAMP:20260422T134017
CREATED:20240625T100018Z
LAST-MODIFIED:20250218T160302Z
UID:10000163-1729884600-1729884600@culturatorrevieja.com
SUMMARY:Faemino & Cansado: 17 times reloaded
DESCRIPTION:Ángel Javier Pozuelo and Juan Carlos Arroyo live in anonymity until they take off their first names\, give themselves surnames and call themselves Javier Cansado and Carlos Faemino. Then the story begins to sound like a laugh and Faemino and Cansado appear on the scene\, two tireless stage performers for nearly three decades. Which are not few to have started always losing.   \n\n\nFrom the Retiro to television\, passing through bar and theater stages\, Faemino and Cansado are one of those comic duos without whom humor in Spain would have lacked dancing partners and laughter. \n\n\nThey say that 17 times is their most groundbreaking show\, but they continue to laugh at life and its daily routine\, at its absurdities and those of life as well. Of what is funny and what they manage to make funny. Seventeen times\, twenty-eight years or as many as it takes\, because? would you be able to tell who is Faemino and who is Cansado? Well\, we give you a day of reflection to do so.
URL:https://culturatorrevieja.com/en/evento/faemino-cansado-17-times-reloaded/
LOCATION:Torrevieja International Auditorium\, International Auditorium of Torrevieja Partida de la Loma s/n Next to Hospital Quirónsalud.\, Torrevieja\, Alicante\, Torrevieja\, Alicante\, 03183\, España
CATEGORIES:Theater
ATTACH;FMTTYPE=image/jpeg:https://culturatorrevieja.com/wp-content/uploads/2024/06/FAEMINOCANSADO-1.jpg
END:VEVENT
BEGIN:VEVENT
DTSTART;TZID=Europe/Madrid:20241012T180000
DTEND;TZID=Europe/Madrid:20241012T180000
DTSTAMP:20260422T134017
CREATED:20240806T072931Z
LAST-MODIFIED:20250218T160316Z
UID:10000166-1728756000-1728756000@culturatorrevieja.com
SUMMARY:OST: Movies\, TV Series and Video Games
DESCRIPTION:The Torrevieja Symphony Orchestra will perform several of the best known titles from the world of film\, television and video games\, with exclusive arrangements for symphony orchestra composed for the occasion by the prestigious composer Pedro Contreras. \n\n\nThemes from popular movies\, series and videogames such as Gladiator\, James Bond\, Gone with the Wind\, Game of Thrones\, The Simpsons\, Zelda or Mario Bros\, among many others. \n\n\nAll this will be integrated into a sound and light show designed to recreate in the best possible way all the epic music chosen for this exciting event.
URL:https://culturatorrevieja.com/en/evento/ost-movies-tv-series-and-video-games/
LOCATION:Torrevieja International Auditorium\, International Auditorium of Torrevieja Partida de la Loma s/n Next to Hospital Quirónsalud.\, Torrevieja\, Alicante\, Torrevieja\, Alicante\, 03183\, España
CATEGORIES:Concert
ATTACH;FMTTYPE=image/jpeg:https://culturatorrevieja.com/wp-content/uploads/2024/08/OST_PELICULAS_SERIES.jpg
END:VEVENT
BEGIN:VEVENT
DTSTART;TZID=Europe/Madrid:20241011T200000
DTEND;TZID=Europe/Madrid:20241011T200000
DTSTAMP:20260422T134017
CREATED:20240819T100001Z
LAST-MODIFIED:20250218T160318Z
UID:10000227-1728676800-1728676800@culturatorrevieja.com
SUMMARY:ABBA: The New Experience (Evolution)
DESCRIPTION:After 8 years of career\, ABBA THE NEW EXPERIENCE has positioned itself as one of the best ABBA tribute bands performing at festivals and mythical venues such as the Olympic Stadium in Barcelona\, the Pedralbes Festival\, the Palau de la Música Catalana\, the International Festival of Cambrils\, the Palau Sant Jordi Club or the performance they did in 2021 at the Swedish Consulate\, in addition to multiple concerts in major state cities. That is why now it is time to present a new show\, more visual\, more exciting and more ABBA!  \n\n\nABBA THE NEW EXPERIENCE (Evolution) is the band’s new show where their songs go one step further and where the experience with the audience is more intense! An audiovisual show that will bring you even closer to the ABBA world!  \n\n\nThe masterful formula of their catchy melodies and their own sound impregnated with magic the lives of many of us in the 70’s and 80’s and have managed to be present in the collective memory of several generations thanks to the inclusion of their most popular songs in movie soundtracks\, musicals\, tributes and compilations published over the years until today\, where they have returned to the stage with their ABBA VOYAGE tour. With ABBA THE NEW EXPERIENCE (Evolution) you have the opportunity to live that essence closer than ever!
URL:https://culturatorrevieja.com/en/evento/abba-the-new-experience-evolution/
LOCATION:Torrevieja International Auditorium\, International Auditorium of Torrevieja Partida de la Loma s/n Next to Hospital Quirónsalud.\, Torrevieja\, Alicante\, Torrevieja\, Alicante\, 03183\, España
CATEGORIES:Concert
ATTACH;FMTTYPE=image/jpeg:https://culturatorrevieja.com/wp-content/uploads/2024/08/ABBA-23-FOTO-LILA-1-e1723025594542.jpg
END:VEVENT
BEGIN:VEVENT
DTSTART;TZID=Europe/Madrid:20241006T110000
DTEND;TZID=Europe/Madrid:20241006T110000
DTSTAMP:20260422T134017
CREATED:20240819T100025Z
LAST-MODIFIED:20250218T160333Z
UID:10000221-1728212400-1728212400@culturatorrevieja.com
SUMMARY:XXI Musical Exchanges Concert Campaign: Sociedad Musical "La Paz" and Unión Musical Torrevejense.
DESCRIPTION:As part of the XXI Concert Campaign Musical Exchanges\, will present an outstanding concert that will unite the talents of two great groups: the Musical Society “La Paz” of Sant Joan D’Alacant and Torrevejense Musical Union. \n\n\nThis initiative\, which promotes cultural and musical exchange between different localities\, will offer attendees a unique evening\, where both bands will display their interpretative mastery through a carefully selected repertoire. \n\n\nIt will be a morning to enjoy music at its best\, in an event that promises to enrich the cultural life of all present\, don’t miss it!
URL:https://culturatorrevieja.com/en/evento/xxi-musical-exchanges-concert-campaign-sociedad-musical-la-paz-and-union-musical-torrevejense/
LOCATION:Torrevieja International Auditorium\, International Auditorium of Torrevieja Partida de la Loma s/n Next to Hospital Quirónsalud.\, Torrevieja\, Alicante\, Torrevieja\, Alicante\, 03183\, España
CATEGORIES:Concert
ATTACH;FMTTYPE=image/jpeg:https://culturatorrevieja.com/wp-content/uploads/2024/08/INTERCAMBIOS-_MUSICALES.jpg
END:VEVENT
BEGIN:VEVENT
DTSTART;TZID=Europe/Madrid:20241005T200000
DTEND;TZID=Europe/Madrid:20241005T200000
DTSTAMP:20260422T134017
CREATED:20240618T084133Z
LAST-MODIFIED:20250218T160301Z
UID:10000155-1728158400-1728158400@culturatorrevieja.com
SUMMARY:Pastora Soler - Tour "Rosas y Espinas - 30 years".
DESCRIPTION:The singer Pastora Soler has announced her long-awaited concert at the International Auditorium of Torrevieja next Saturday\, October 5 at 21:00 hours\, as part of her tour “Rosas y Espinas – 30 Años” (Roses and Thorns – 30 Years). This tour\, which will begin in September\, promises to leave an indelible mark on the main theaters and auditoriums in Spain.  \nPastora Soler\, who has been meticulously preparing for her 30th anniversary for a long time\, will offer a show full of memories and emotions. In this concert\, the artist will reveal to the public the key moments of her career\, perform her iconic songs and present her greatest hits.  \nThe concert will not only feature a musical narrative\, but also visual elements that will transport the audience through Pastora’s three decades on stage. \nThis show promises to be a unique experience for all of Soler’s fans. Attendees will have the opportunity to learn stories and personal anecdotes of the artist\, live intimate moments and enjoy unexpected collaborations.  \nThis celebration will be as much about the past as it is about the present\, and always with an eye towards the future. It will be\, above all\, a celebration for the fans who have supported Pastora Soler throughout these 30 years.
URL:https://culturatorrevieja.com/en/evento/pastora-soler-tour-rosas-y-espinas-30-years/
LOCATION:Torrevieja International Auditorium\, International Auditorium of Torrevieja Partida de la Loma s/n Next to Hospital Quirónsalud.\, Torrevieja\, Alicante\, Torrevieja\, Alicante\, 03183\, España
CATEGORIES:Concert
ATTACH;FMTTYPE=image/jpeg:https://culturatorrevieja.com/wp-content/uploads/2024/06/PASTORA_SOLER.jpg
END:VEVENT
BEGIN:VEVENT
DTSTART;TZID=Europe/Madrid:20240928T183000
DTEND;TZID=Europe/Madrid:20240928T183000
DTSTAMP:20260422T134017
CREATED:20240814T123442Z
LAST-MODIFIED:20250218T160317Z
UID:10000225-1727548200-1727548200@culturatorrevieja.com
SUMMARY:The Gourmet Preview: Two Fools and Me
DESCRIPTION:Sold out! \nNext Saturday\, September 28\, 2024\, we invite you to enjoy a unique and exclusive gastronomic experience: “La Previa Gourmet”\, an event designed for lovers of good humor and haute cuisine. Organized by Qtal Gourmet\, this special evening will be the perfect prelude to the show “Dos Tontos y Yo”\, a humorous monologue that promises to make you laugh and make the night an unforgettable memory.  \n\n\n“La Previa Gourmet” will be a cocktail dinner at a high table\, with food and wine pairing. Starting at 7:30 pm\, attendees will have prior access to the Auditorium and will be able to enjoy exclusively a series of dishes prepared with seasonal ingredients and presented in an experience that combines haute cuisine with an elegant and relaxed atmosphere.  \n\n\nEach course will be accompanied by a selection of wines and cocktails that perfectly complement the flavors of the dinner\, ensuring a complete dining experience. Diners will have the opportunity to interact\, share laughs and prepare for the evening’s big date\, all while enjoying an exclusive ambiance and impeccable service.  \n\n\nIt should be noted that “La Previa Gourmet” is reserved only and exclusively for those who have tickets for the show “Dos Tontos y Yo”. Once you have purchased your ticket for this show\, you must wait at least 24 hours to reserve your place in La Previa Gourmet. This event is the perfect opportunity to enjoy a rounded evening\, where cuisine and humor come together to offer you an unparalleled cultural experience in one place.   Don’t miss it! \n\n\nFood: \n\n\n\nSelection of artisan cheeses\, assorted jams and fresh fruits.\nHam cutter (Iberian ham\, “green label” from Sierra de Codex\, Guijuelo\, Salamanca).\nMini Spanish omelette sandwich with fried peppers.\nAssorted croquettes (boletus\, seafood\, cheese with caramelized onion).\nVegetable and anchovy asadillo coke.\nWhite garlic\, cherry and mojama.\nPotato chips\n\n\n\nDrinks: Open bar \n\n\n\nCraft beer on tap “Boquerón”\, with sea water.\nWhite wine “Habla de ti” V.T. Extremadura.\nRed wine “Hito” D.O. Ribera del Duero.\nSparkling wine “Mistinguett Brut” D.O. Cava (Organic).\nLanjarón Water
URL:https://culturatorrevieja.com/en/evento/the-gourmet-preview-two-fools-and-me/
LOCATION:Torrevieja International Auditorium\, International Auditorium of Torrevieja Partida de la Loma s/n Next to Hospital Quirónsalud.\, Torrevieja\, Alicante\, Torrevieja\, Alicante\, 03183\, España
CATEGORIES:Gastronomy
ATTACH;FMTTYPE=image/png:https://culturatorrevieja.com/wp-content/uploads/2024/08/9-1.png
END:VEVENT
END:VCALENDAR